BEGIN:VCALENDAR
VERSION:2.0
PRODID:-//SpeedwayA-Z.cz - ECPv4.6.1//NONSGML v1.0//EN
CALSCALE:GREGORIAN
METHOD:PUBLISH
X-WR-CALNAME:SpeedwayA-Z.cz
X-ORIGINAL-URL:https://www.speedwaya-z.cz
X-WR-CALDESC:Events for SpeedwayA-Z.cz
BEGIN:VEVENT
DTSTART;TZID=Europe/Prague:20160124T130000
DTEND;TZID=Europe/Prague:20160124T130000
DTSTAMP:20260423T203041
CREATED:20151209T112831Z
LAST-MODIFIED:20160121T211250Z
UID:13754-1453640400-1453640400@www.speedwaya-z.cz
SUMMARY:MR ledy - 3. závod - Holice v Čechách
DESCRIPTION:
URL:https://www.speedwaya-z.cz/?tribe_events=mr-ledy-3-zavod-holice-v-cechach
LOCATION:autokemp Hluboký\, Holice v Čechách
END:VEVENT
END:VCALENDAR