BEGIN:VCALENDAR
VERSION:2.0
PRODID:-//SpeedwayA-Z.cz - ECPv4.6.1//NONSGML v1.0//EN
CALSCALE:GREGORIAN
METHOD:PUBLISH
X-WR-CALNAME:SpeedwayA-Z.cz
X-ORIGINAL-URL:https://www.speedwaya-z.cz
X-WR-CALDESC:Events for SpeedwayA-Z.cz
BEGIN:VEVENT
DTSTART;TZID=Europe/Prague:20170121T130000
DTEND;TZID=Europe/Prague:20170121T130000
DTSTAMP:20260423T104044
CREATED:20161124T082627Z
LAST-MODIFIED:20170117T214108Z
UID:20248-1485003600-1485003600@www.speedwaya-z.cz
SUMMARY:MR ledy - 1. závod - Opatovice nad Labem
DESCRIPTION:
URL:https://www.speedwaya-z.cz/?tribe_events=mr-ledy-2-zavod-opatovice-hk
END:VEVENT
END:VCALENDAR