BEGIN:VCALENDAR
VERSION:2.0
PRODID:-//SpeedwayA-Z.cz - ECPv4.6.1//NONSGML v1.0//EN
CALSCALE:GREGORIAN
METHOD:PUBLISH
X-WR-CALNAME:SpeedwayA-Z.cz
X-ORIGINAL-URL:https://www.speedwaya-z.cz
X-WR-CALDESC:Events for SpeedwayA-Z.cz
BEGIN:VEVENT
DTSTART;TZID=Europe/Prague:20170128T130000
DTEND;TZID=Europe/Prague:20170128T130000
DTSTAMP:20260423T104147
CREATED:20161124T082846Z
LAST-MODIFIED:20170123T003947Z
UID:20251-1485608400-1485608400@www.speedwaya-z.cz
SUMMARY:MR ledy družstev - 1. závod - Chrastná
DESCRIPTION:
URL:https://www.speedwaya-z.cz/?tribe_events=mr-ledy-2-zavod-hamr-na-jezere-nebo-chrastna
END:VEVENT
END:VCALENDAR