BEGIN:VCALENDAR
VERSION:2.0
PRODID:-//SpeedwayA-Z.cz - ECPv4.6.1//NONSGML v1.0//EN
CALSCALE:GREGORIAN
METHOD:PUBLISH
X-WR-CALNAME:SpeedwayA-Z.cz
X-ORIGINAL-URL:https://www.speedwaya-z.cz
X-WR-CALDESC:Events for SpeedwayA-Z.cz
BEGIN:VEVENT
DTSTART;TZID=Europe/Prague:20190202T130000
DTEND;TZID=Europe/Prague:20190202T130000
DTSTAMP:20260421T224642
CREATED:20190120T084846Z
LAST-MODIFIED:20190130T085130Z
UID:35120-1549112400-1549112400@www.speedwaya-z.cz
SUMMARY:MR led - Kopřivnice (!!!ZRUŠENO!!!)
DESCRIPTION:
URL:https://www.speedwaya-z.cz/?tribe_events=mr-led-koprivnice
END:VEVENT
END:VCALENDAR