BEGIN:VCALENDAR
VERSION:2.0
PRODID:-//SpeedwayA-Z.cz - ECPv4.6.1//NONSGML v1.0//EN
CALSCALE:GREGORIAN
METHOD:PUBLISH
X-WR-CALNAME:SpeedwayA-Z.cz
X-ORIGINAL-URL:https://www.speedwaya-z.cz
X-WR-CALDESC:Events for SpeedwayA-Z.cz
BEGIN:VEVENT
DTSTART;TZID=Europe/Prague:20170621T180000
DTEND;TZID=Europe/Prague:20170621T180000
DTSTAMP:20260423T071028
CREATED:20170317T105613Z
LAST-MODIFIED:20170317T105613Z
UID:22007-1498068000-1498068000@www.speedwaya-z.cz
SUMMARY:MR juniorů - 3. závod - Pardubice (14. Cena Jiřího Marxe)
DESCRIPTION:
URL:https://www.speedwaya-z.cz/?tribe_events=mr-junioru-3-zavod-pardubice-14-cena-jiriho-marxe
LOCATION:Motoristů 300\, Pardubice\, 530 06
END:VEVENT
END:VCALENDAR