BEGIN:VCALENDAR
VERSION:2.0
PRODID:-//SpeedwayA-Z.cz - ECPv4.6.1//NONSGML v1.0//EN
CALSCALE:GREGORIAN
METHOD:PUBLISH
X-WR-CALNAME:SpeedwayA-Z.cz
X-ORIGINAL-URL:https://www.speedwaya-z.cz
X-WR-CALDESC:Events for SpeedwayA-Z.cz
BEGIN:VEVENT
DTSTART;TZID=Europe/Prague:20150511T180000
DTEND;TZID=Europe/Prague:20150511T180000
DTSTAMP:20260425T200546
CREATED:20150329T193541Z
LAST-MODIFIED:20150506T105643Z
UID:8826-1431367200-1431367200@www.speedwaya-z.cz
SUMMARY:MR jednotlivců  - semifinále - Pardubice
DESCRIPTION:přeloženo z 6.5. \n
URL:https://www.speedwaya-z.cz/?tribe_events=mr-jednotlivcu-semifinale-pardubice
END:VEVENT
END:VCALENDAR