BEGIN:VCALENDAR
VERSION:2.0
PRODID:-//SpeedwayA-Z.cz - ECPv4.6.1//NONSGML v1.0//EN
CALSCALE:GREGORIAN
METHOD:PUBLISH
X-WR-CALNAME:SpeedwayA-Z.cz
X-ORIGINAL-URL:https://www.speedwaya-z.cz
X-WR-CALDESC:Events for SpeedwayA-Z.cz
BEGIN:VEVENT
DTSTART;TZID=Europe/Prague:20190416T180000
DTEND;TZID=Europe/Prague:20190416T180000
DTSTAMP:20260423T103910
CREATED:20190210T162311Z
LAST-MODIFIED:20190311T065115Z
UID:35390-1555437600-1555437600@www.speedwaya-z.cz
SUMMARY:MR jednotlivců - Praha
DESCRIPTION:
URL:https://www.speedwaya-z.cz/?tribe_events=mr-jednotlivcu-praha
END:VEVENT
END:VCALENDAR