BEGIN:VCALENDAR
VERSION:2.0
PRODID:-//SpeedwayA-Z.cz - ECPv4.6.1//NONSGML v1.0//EN
CALSCALE:GREGORIAN
METHOD:PUBLISH
X-WR-CALNAME:SpeedwayA-Z.cz
X-ORIGINAL-URL:https://www.speedwaya-z.cz
X-WR-CALDESC:Events for SpeedwayA-Z.cz
BEGIN:VEVENT
DTSTART;TZID=Europe/Prague:20171007T140000
DTEND;TZID=Europe/Prague:20171007T140000
DTSTAMP:20260423T014855
CREATED:20170319T221627Z
LAST-MODIFIED:20170930T213521Z
UID:22058-1507384800-1507384800@www.speedwaya-z.cz
SUMMARY:MR jednotlivců - finále 3 - Březolupy
DESCRIPTION:
URL:https://www.speedwaya-z.cz/?tribe_events=mr-jednotlivcu-finale-3-brezolupy
LOCATION:Březolupy\, 687 13
ORGANIZER;CN="AK%20B%C5%99ezolupy%20v%20A%C4%8CR":MAILTO:autoklub(at)brezolupy.cz
END:VEVENT
END:VCALENDAR