BEGIN:VCALENDAR
VERSION:2.0
PRODID:-//SpeedwayA-Z.cz - ECPv4.6.1//NONSGML v1.0//EN
CALSCALE:GREGORIAN
METHOD:PUBLISH
X-WR-CALNAME:SpeedwayA-Z.cz
X-ORIGINAL-URL:https://www.speedwaya-z.cz
X-WR-CALDESC:Events for SpeedwayA-Z.cz
BEGIN:VEVENT
DTSTART;TZID=Europe/Prague:20150912T140000
DTEND;TZID=Europe/Prague:20150912T000000
DTSTAMP:20260425T212956
CREATED:20150329T193654Z
LAST-MODIFIED:20150329T193654Z
UID:8891-1442066400-1442016000@www.speedwaya-z.cz
SUMMARY:MR flat track - Svitavy
DESCRIPTION:
URL:https://www.speedwaya-z.cz/?tribe_events=mr-flat-track-svitavy
END:VEVENT
END:VCALENDAR