BEGIN:VCALENDAR
VERSION:2.0
PRODID:-//SpeedwayA-Z.cz - ECPv4.6.1//NONSGML v1.0//EN
CALSCALE:GREGORIAN
METHOD:PUBLISH
X-WR-CALNAME:SpeedwayA-Z.cz
X-ORIGINAL-URL:https://www.speedwaya-z.cz
X-WR-CALDESC:Events for SpeedwayA-Z.cz
BEGIN:VEVENT
DTSTART;TZID=Europe/Prague:20151010T000000
DTEND;TZID=Europe/Prague:20151010T000000
DTSTAMP:20260425T213007
CREATED:20150329T193654Z
LAST-MODIFIED:20151009T085914Z
UID:8892-1444435200-1444435200@www.speedwaya-z.cz
SUMMARY:MR flat track - Chabařovice (NEJEDE SE)
DESCRIPTION:
URL:https://www.speedwaya-z.cz/?tribe_events=mr-flat-track-chabarovice
END:VEVENT
END:VCALENDAR