BEGIN:VCALENDAR
VERSION:2.0
PRODID:-//SpeedwayA-Z.cz - ECPv4.6.1//NONSGML v1.0//EN
CALSCALE:GREGORIAN
METHOD:PUBLISH
X-WR-CALNAME:SpeedwayA-Z.cz
X-ORIGINAL-URL:https://www.speedwaya-z.cz
X-WR-CALDESC:Events for SpeedwayA-Z.cz
BEGIN:VEVENT
DTSTART;TZID=Europe/Prague:20160608T180000
DTEND;TZID=Europe/Prague:20160608T180000
DTSTAMP:20260423T215336
CREATED:20160113T225904Z
LAST-MODIFIED:20160324T102028Z
UID:14223-1465408800-1465408800@www.speedwaya-z.cz
SUMMARY:MR družstev - extraliga - 3. závod - Slaný
DESCRIPTION:
URL:https://www.speedwaya-z.cz/?tribe_events=mr-druzstev-extraliga-3-zavod-slany
LOCATION:Netovická 1509\, Slaný\, 274 01
ORGANIZER;CN="AK%20Slan%C3%BD%20v%20A%C4%8CR":MAILTO:speedway.slany(at)volny.cz
END:VEVENT
END:VCALENDAR