BEGIN:VCALENDAR
VERSION:2.0
PRODID:-//SpeedwayA-Z.cz - ECPv4.6.1//NONSGML v1.0//EN
CALSCALE:GREGORIAN
METHOD:PUBLISH
X-WR-CALNAME:SpeedwayA-Z.cz
X-ORIGINAL-URL:https://www.speedwaya-z.cz
X-WR-CALDESC:Events for SpeedwayA-Z.cz
BEGIN:VEVENT
DTSTART;TZID=Europe/Prague:20190922T100000
DTEND;TZID=Europe/Prague:20190922T100000
DTSTAMP:20260423T103900
CREATED:20190308T064910Z
LAST-MODIFIED:20190907T195224Z
UID:35726-1569146400-1569146400@www.speedwaya-z.cz
SUMMARY:MR 250 ccm - Slaný
DESCRIPTION:
URL:https://www.speedwaya-z.cz/?tribe_events=mr-250-ccm-slany-2
END:VEVENT
END:VCALENDAR