BEGIN:VCALENDAR
VERSION:2.0
PRODID:-//SpeedwayA-Z.cz - ECPv4.6.1//NONSGML v1.0//EN
CALSCALE:GREGORIAN
METHOD:PUBLISH
X-WR-CALNAME:SpeedwayA-Z.cz
X-ORIGINAL-URL:https://www.speedwaya-z.cz
X-WR-CALDESC:Events for SpeedwayA-Z.cz
BEGIN:VEVENT
DTSTART;TZID=Europe/Prague:20191020T130000
DTEND;TZID=Europe/Prague:20191020T130000
DTSTAMP:20260423T085342
CREATED:20190308T080655Z
LAST-MODIFIED:20191015T082912Z
UID:35743-1571576400-1571576400@www.speedwaya-z.cz
SUMMARY:MR 125 cm - Divišov (NT za Pardubice 24.7.\, resp. 19.10. a Diviošv 13.10.))
DESCRIPTION:
URL:https://www.speedwaya-z.cz/?tribe_events=mr-125-cm-pardubice-2
END:VEVENT
END:VCALENDAR