BEGIN:VCALENDAR
VERSION:2.0
PRODID:-//SpeedwayA-Z.cz - ECPv4.6.1//NONSGML v1.0//EN
CALSCALE:GREGORIAN
METHOD:PUBLISH
X-WR-CALNAME:SpeedwayA-Z.cz
X-ORIGINAL-URL:https://www.speedwaya-z.cz
X-WR-CALDESC:Events for SpeedwayA-Z.cz
BEGIN:VEVENT
DTSTART;TZID=Europe/Prague:20170513T100000
DTEND;TZID=Europe/Prague:20170513T100000
DTSTAMP:20260423T094419
CREATED:20170319T121938Z
LAST-MODIFIED:20170319T121938Z
UID:22038-1494669600-1494669600@www.speedwaya-z.cz
SUMMARY:MR 125 ccm na krátké dráze - Slaný
DESCRIPTION:
URL:https://www.speedwaya-z.cz/?tribe_events=mr-125-ccm-na-kratke-draze-slany
LOCATION:Netovická 1509\, Slaný\, 274 01
ORGANIZER;CN="AK%20Slan%C3%BD%20v%20A%C4%8CR":MAILTO:speedway.slany(at)volny.cz
END:VEVENT
END:VCALENDAR