BEGIN:VCALENDAR
VERSION:2.0
PRODID:-//SpeedwayA-Z.cz - ECPv4.6.1//NONSGML v1.0//EN
CALSCALE:GREGORIAN
METHOD:PUBLISH
X-WR-CALNAME:SpeedwayA-Z.cz
X-ORIGINAL-URL:https://www.speedwaya-z.cz
X-WR-CALDESC:Events for SpeedwayA-Z.cz
BEGIN:VEVENT
DTSTART;TZID=Europe/Prague:20190406T100000
DTEND;TZID=Europe/Prague:20190406T100000
DTSTAMP:20260423T104147
CREATED:20190305T082115Z
LAST-MODIFIED:20190305T082115Z
UID:35643-1554544800-1554544800@www.speedwaya-z.cz
SUMMARY:MR 125 ccm na krátké dráze - Praha
DESCRIPTION:
URL:https://www.speedwaya-z.cz/?tribe_events=mr-125-ccm-na-kratke-draze-praha-7
END:VEVENT
END:VCALENDAR