BEGIN:VCALENDAR
VERSION:2.0
PRODID:-//SpeedwayA-Z.cz - ECPv4.6.1//NONSGML v1.0//EN
CALSCALE:GREGORIAN
METHOD:PUBLISH
X-WR-CALNAME:SpeedwayA-Z.cz
X-ORIGINAL-URL:https://www.speedwaya-z.cz
X-WR-CALDESC:Events for SpeedwayA-Z.cz
BEGIN:VEVENT
DTSTART;TZID=Europe/Prague:20170520T130000
DTEND;TZID=Europe/Prague:20170520T130000
DTSTAMP:20260423T063300
CREATED:20170319T223031Z
LAST-MODIFIED:20170519T123013Z
UID:22071-1495285200-1495285200@www.speedwaya-z.cz
SUMMARY:MR 125 ccm na krátké dráze - Divišov
DESCRIPTION:
URL:https://www.speedwaya-z.cz/?tribe_events=mr-125-ccm-na-kratke-draze-divisov-2
LOCATION:Benešovská 343\, Divišov\, 257 26
END:VEVENT
END:VCALENDAR