BEGIN:VCALENDAR
VERSION:2.0
PRODID:-//SpeedwayA-Z.cz - ECPv4.6.1//NONSGML v1.0//EN
CALSCALE:GREGORIAN
METHOD:PUBLISH
X-WR-CALNAME:SpeedwayA-Z.cz
X-ORIGINAL-URL:https://www.speedwaya-z.cz
X-WR-CALDESC:Events for SpeedwayA-Z.cz
BEGIN:VEVENT
DTSTART;TZID=Europe/Prague:20220618T100000
DTEND;TZID=Europe/Prague:20220618T100000
DTSTAMP:20260420T115857
CREATED:20220323T180851Z
LAST-MODIFIED:20220612T084434Z
UID:49086-1655546400-1655546400@www.speedwaya-z.cz
SUMMARY:MR 125 ccm na krátké dráze - Chabařovice
DESCRIPTION:
URL:https://www.speedwaya-z.cz/?tribe_events=mr-125-ccm-na-kratke-draze-chabarovice-5
END:VEVENT
END:VCALENDAR