BEGIN:VCALENDAR
VERSION:2.0
PRODID:-//SpeedwayA-Z.cz - ECPv4.6.1//NONSGML v1.0//EN
CALSCALE:GREGORIAN
METHOD:PUBLISH
X-WR-CALNAME:SpeedwayA-Z.cz
X-ORIGINAL-URL:https://www.speedwaya-z.cz
X-WR-CALDESC:Events for SpeedwayA-Z.cz
BEGIN:VEVENT
DTSTART;TZID=Europe/Prague:20190608T090000
DTEND;TZID=Europe/Prague:20190608T090000
DTSTAMP:20260421T161739
CREATED:20190308T095324Z
LAST-MODIFIED:20190531T160352Z
UID:35757-1559984400-1559984400@www.speedwaya-z.cz
SUMMARY:MR 125 ccm na krátké dráze - Chabařovice
DESCRIPTION:
URL:https://www.speedwaya-z.cz/?tribe_events=mr-125-ccm-na-kratke-draze-chabarovice-3
END:VEVENT
END:VCALENDAR