BEGIN:VCALENDAR
VERSION:2.0
PRODID:-//SpeedwayA-Z.cz - ECPv4.6.1//NONSGML v1.0//EN
CALSCALE:GREGORIAN
METHOD:PUBLISH
X-WR-CALNAME:SpeedwayA-Z.cz
X-ORIGINAL-URL:https://www.speedwaya-z.cz
X-WR-CALDESC:Events for SpeedwayA-Z.cz
BEGIN:VEVENT
DTSTART;TZID=Europe/Prague:20171011T150000
DTEND;TZID=Europe/Prague:20171011T150000
DTSTAMP:20260422T235521
CREATED:20171006T070326Z
LAST-MODIFIED:20171006T070326Z
UID:26597-1507734000-1507734000@www.speedwaya-z.cz
SUMMARY:Moto Show Štětí
DESCRIPTION:
URL:https://www.speedwaya-z.cz/?tribe_events=moto-show-steti
END:VEVENT
END:VCALENDAR