BEGIN:VCALENDAR
VERSION:2.0
PRODID:-//SpeedwayA-Z.cz - ECPv4.6.1//NONSGML v1.0//EN
CALSCALE:GREGORIAN
METHOD:PUBLISH
X-WR-CALNAME:SpeedwayA-Z.cz
X-ORIGINAL-URL:https://www.speedwaya-z.cz
X-WR-CALDESC:Events for SpeedwayA-Z.cz
BEGIN:VEVENT
DTSTART;TZID=Europe/Prague:20150718T160000
DTEND;TZID=Europe/Prague:20150718T000000
DTSTAMP:20260425T214415
CREATED:20150329T193751Z
LAST-MODIFIED:20150329T193751Z
UID:8919-1437235200-1437177600@www.speedwaya-z.cz
SUMMARY:mezinárodní závod veteránů - Žarnovica (SK)
DESCRIPTION:
URL:https://www.speedwaya-z.cz/?tribe_events=mezinarodni-zavod-veteranu-zarnovica-sk
END:VEVENT
END:VCALENDAR