BEGIN:VCALENDAR
VERSION:2.0
PRODID:-//SpeedwayA-Z.cz - ECPv4.6.1//NONSGML v1.0//EN
CALSCALE:GREGORIAN
METHOD:PUBLISH
X-WR-CALNAME:SpeedwayA-Z.cz
X-ORIGINAL-URL:https://www.speedwaya-z.cz
X-WR-CALDESC:Events for SpeedwayA-Z.cz
BEGIN:VEVENT
DTSTART;TZID=Europe/Prague:20180408T150000
DTEND;TZID=Europe/Prague:20180408T150000
DTSTAMP:20260422T105857
CREATED:20180316T235257Z
LAST-MODIFIED:20180316T235257Z
UID:29026-1523199600-1523199600@www.speedwaya-z.cz
SUMMARY:Mezinárodní mistrovství Slovenska - Žarnovica
DESCRIPTION:
URL:https://www.speedwaya-z.cz/?tribe_events=mezinarodni-mistrovstvi-slovenska-zarnovica
LOCATION:Bystrická 37\, Žarnovica\, 966 81\, Slovensko
ORGANIZER;CN="Speedway%20Club%20%C5%BDarnovica":MAILTO:martin.buri(at)gmail.com
END:VEVENT
END:VCALENDAR