BEGIN:VCALENDAR
VERSION:2.0
PRODID:-//SpeedwayA-Z.cz - ECPv4.6.1//NONSGML v1.0//EN
CALSCALE:GREGORIAN
METHOD:PUBLISH
X-WR-CALNAME:SpeedwayA-Z.cz
X-ORIGINAL-URL:https://www.speedwaya-z.cz
X-WR-CALDESC:Events for SpeedwayA-Z.cz
BEGIN:VEVENT
DTSTART;TZID=Europe/Prague:20150422T180000
DTEND;TZID=Europe/Prague:20150422T000000
DTSTAMP:20260426T014124
CREATED:20150329T193541Z
LAST-MODIFIED:20150329T193541Z
UID:8878-1429725600-1429660800@www.speedwaya-z.cz
SUMMARY:mezinárodní mistrovství dvojic - Pardubice
DESCRIPTION:
URL:https://www.speedwaya-z.cz/?tribe_events=mezinarodni-mistrovstvi-dvojic-pardubice
END:VEVENT
END:VCALENDAR