BEGIN:VCALENDAR
VERSION:2.0
PRODID:-//SpeedwayA-Z.cz - ECPv4.6.1//NONSGML v1.0//EN
CALSCALE:GREGORIAN
METHOD:PUBLISH
X-WR-CALNAME:SpeedwayA-Z.cz
X-ORIGINAL-URL:https://www.speedwaya-z.cz
X-WR-CALDESC:Events for SpeedwayA-Z.cz
BEGIN:VEVENT
DTSTART;TZID=Europe/Prague:20160717T130000
DTEND;TZID=Europe/Prague:20160717T130000
DTSTAMP:20260423T212947
CREATED:20160113T234630Z
LAST-MODIFIED:20160706T012215Z
UID:14246-1468760400-1468760400@www.speedwaya-z.cz
SUMMARY:Memoriál Zdeňka Kudrny - Mariánské Lázně (ODVOLÁNO)
DESCRIPTION:
URL:https://www.speedwaya-z.cz/?tribe_events=memorial-zdenka-kudrny-marianske-lazne
LOCATION:Na Průhonu 214/12\, Mariánské Lázně\, 353 01
ORGANIZER;CN="AMK%20%20Mari%C3%A1nsk%C3%A9%20L%C3%A1zn%C4%9B%20v%20A%C4%8CR":MAILTO:amk.ml(at)seznam.cz
END:VEVENT
END:VCALENDAR