BEGIN:VCALENDAR
VERSION:2.0
PRODID:-//SpeedwayA-Z.cz - ECPv4.6.1//NONSGML v1.0//EN
CALSCALE:GREGORIAN
METHOD:PUBLISH
X-WR-CALNAME:SpeedwayA-Z.cz
X-ORIGINAL-URL:https://www.speedwaya-z.cz
X-WR-CALDESC:Events for SpeedwayA-Z.cz
BEGIN:VEVENT
DTSTART;TZID=Europe/Prague:20191019T110000
DTEND;TZID=Europe/Prague:20191019T110000
DTSTAMP:20260423T092336
CREATED:20190308T065138Z
LAST-MODIFIED:20191008T115711Z
UID:35730-1571482800-1571482800@www.speedwaya-z.cz
SUMMARY:MACEC Cup - Pardubice
DESCRIPTION:
URL:https://www.speedwaya-z.cz/?tribe_events=macec-cup-pardubice-3
END:VEVENT
END:VCALENDAR