BEGIN:VCALENDAR
VERSION:2.0
PRODID:-//SpeedwayA-Z.cz - ECPv4.6.1//NONSGML v1.0//EN
CALSCALE:GREGORIAN
METHOD:PUBLISH
X-WR-CALNAME:SpeedwayA-Z.cz
X-ORIGINAL-URL:https://www.speedwaya-z.cz
X-WR-CALDESC:Events for SpeedwayA-Z.cz
BEGIN:VEVENT
DTSTART;TZID=Europe/Prague:20160409T130000
DTEND;TZID=Europe/Prague:20160409T130000
DTSTAMP:20260423T185317
CREATED:20160324T093538Z
LAST-MODIFIED:20160324T093538Z
UID:15275-1460206800-1460206800@www.speedwaya-z.cz
SUMMARY:M ČR 125 ccm na krátké dráze - Praha
DESCRIPTION:
URL:https://www.speedwaya-z.cz/?tribe_events=m-cr-125-ccm-na-kratke-draze-praha
END:VEVENT
END:VCALENDAR