BEGIN:VCALENDAR
VERSION:2.0
PRODID:-//SpeedwayA-Z.cz - ECPv4.6.1//NONSGML v1.0//EN
CALSCALE:GREGORIAN
METHOD:PUBLISH
X-WR-CALNAME:SpeedwayA-Z.cz
X-ORIGINAL-URL:https://www.speedwaya-z.cz
X-WR-CALDESC:Events for SpeedwayA-Z.cz
BEGIN:VEVENT
DTSTART;TZID=Europe/Prague:20160528T100000
DTEND;TZID=Europe/Prague:20160528T100000
DTSTAMP:20260423T203124
CREATED:20160324T093640Z
LAST-MODIFIED:20160324T093640Z
UID:15277-1464429600-1464429600@www.speedwaya-z.cz
SUMMARY:M ČR 125 ccm na krátké dráze - Divišov
DESCRIPTION:
URL:https://www.speedwaya-z.cz/?tribe_events=m-cr-125-ccm-na-kratke-draze-divisov
END:VEVENT
END:VCALENDAR