BEGIN:VCALENDAR
VERSION:2.0
PRODID:-//SpeedwayA-Z.cz - ECPv4.6.1//NONSGML v1.0//EN
CALSCALE:GREGORIAN
METHOD:PUBLISH
X-WR-CALNAME:SpeedwayA-Z.cz
X-ORIGINAL-URL:https://www.speedwaya-z.cz
X-WR-CALDESC:Events for SpeedwayA-Z.cz
BEGIN:VEVENT
DTSTART;TZID=Europe/Prague:20190608T150000
DTEND;TZID=Europe/Prague:20190608T150000
DTSTAMP:20260421T180554
CREATED:20190308T100005Z
LAST-MODIFIED:20190311T081358Z
UID:35762-1560006000-1560006000@www.speedwaya-z.cz
SUMMARY:kvalifikace o SGP 2020 - Žarnovica
DESCRIPTION:
URL:https://www.speedwaya-z.cz/?tribe_events=kvalifikace-o-sgp-2019-zarnovica-2
END:VEVENT
END:VCALENDAR