BEGIN:VCALENDAR
VERSION:2.0
PRODID:-//SpeedwayA-Z.cz - ECPv4.6.1//NONSGML v1.0//EN
CALSCALE:GREGORIAN
METHOD:PUBLISH
X-WR-CALNAME:SpeedwayA-Z.cz
X-ORIGINAL-URL:https://www.speedwaya-z.cz
X-WR-CALDESC:Events for SpeedwayA-Z.cz
BEGIN:VEVENT
DTSTART;TZID=Europe/Prague:20190726T150000
DTEND;TZID=Europe/Prague:20190726T150000
DTSTAMP:20260421T224805
CREATED:20190211T185111Z
LAST-MODIFIED:20190724T101058Z
UID:35456-1564153200-1564153200@www.speedwaya-z.cz
SUMMARY:Kaczmarek Electric Speedway Cup - Pardubice
DESCRIPTION:
URL:https://www.speedwaya-z.cz/?tribe_events=kaczmarek-electric-speedway-cup-pardubice
END:VEVENT
END:VCALENDAR