BEGIN:VCALENDAR
VERSION:2.0
PRODID:-//SpeedwayA-Z.cz - ECPv4.6.1//NONSGML v1.0//EN
CALSCALE:GREGORIAN
METHOD:PUBLISH
X-WR-CALNAME:SpeedwayA-Z.cz
X-ORIGINAL-URL:https://www.speedwaya-z.cz
X-WR-CALDESC:Events for SpeedwayA-Z.cz
BEGIN:VEVENT
DTSTART;TZID=Europe/Prague:20190606T180000
DTEND;TZID=Europe/Prague:20190606T180000
DTSTAMP:20260421T180516
CREATED:20190524T044209Z
LAST-MODIFIED:20190524T044209Z
UID:37016-1559844000-1559844000@www.speedwaya-z.cz
SUMMARY:extraliga - Pardubice (NT za propršený 15.5.)
DESCRIPTION:
URL:https://www.speedwaya-z.cz/?tribe_events=extraliga-pardubice-nt-za-proprseny-15-5
END:VEVENT
END:VCALENDAR