BEGIN:VCALENDAR
VERSION:2.0
PRODID:-//SpeedwayA-Z.cz - ECPv4.6.1//NONSGML v1.0//EN
CALSCALE:GREGORIAN
METHOD:PUBLISH
X-WR-CALNAME:SpeedwayA-Z.cz
X-ORIGINAL-URL:https://www.speedwaya-z.cz
X-WR-CALDESC:Events for SpeedwayA-Z.cz
BEGIN:VEVENT
DTSTART;TZID=Europe/Prague:20170618T160000
DTEND;TZID=Europe/Prague:20170618T160000
DTSTAMP:20260423T080453
CREATED:20170319T220919Z
LAST-MODIFIED:20170609T123140Z
UID:22054-1497801600-1497801600@www.speedwaya-z.cz
SUMMARY:extraliga - 5. závod - Žarnovica
DESCRIPTION:
URL:https://www.speedwaya-z.cz/?tribe_events=extraliga-5-zavod-zarnovica
LOCATION:Bystrická 37\, Žarnovica\, 966 81\, Slovensko
ORGANIZER;CN="Speedway%20Club%20%C5%BDarnovica":MAILTO:martin.buri(at)gmail.com
END:VEVENT
END:VCALENDAR