BEGIN:VCALENDAR
VERSION:2.0
PRODID:-//SpeedwayA-Z.cz - ECPv4.6.1//NONSGML v1.0//EN
CALSCALE:GREGORIAN
METHOD:PUBLISH
X-WR-CALNAME:SpeedwayA-Z.cz
X-ORIGINAL-URL:https://www.speedwaya-z.cz
X-WR-CALDESC:Events for SpeedwayA-Z.cz
BEGIN:VEVENT
DTSTART;TZID=Europe/Prague:20170514T150000
DTEND;TZID=Europe/Prague:20170514T150000
DTSTAMP:20260423T063301
CREATED:20170319T220628Z
LAST-MODIFIED:20170512T204713Z
UID:22052-1494774000-1494774000@www.speedwaya-z.cz
SUMMARY:extraliga - 3. závod - Žarnovica
DESCRIPTION:
URL:https://www.speedwaya-z.cz/?tribe_events=extraliga-3-zavod-zarnovica
LOCATION:Bystrická 37\, Žarnovica\, 966 81\, Slovensko
ORGANIZER;CN="Speedway%20Club%20%C5%BDarnovica":MAILTO:martin.buri(at)gmail.com
END:VEVENT
END:VCALENDAR