BEGIN:VCALENDAR
VERSION:2.0
PRODID:-//SpeedwayA-Z.cz - ECPv4.6.1//NONSGML v1.0//EN
CALSCALE:GREGORIAN
METHOD:PUBLISH
X-WR-CALNAME:SpeedwayA-Z.cz
X-ORIGINAL-URL:https://www.speedwaya-z.cz
X-WR-CALDESC:Events for SpeedwayA-Z.cz
BEGIN:VEVENT
DTSTART;TZID=Europe/Prague:20180627T180000
DTEND;TZID=Europe/Prague:20180627T180000
DTSTAMP:20260422T092643
CREATED:20180317T200549Z
LAST-MODIFIED:20180520T085448Z
UID:29063-1530122400-1530122400@www.speedwaya-z.cz
SUMMARY:extraliga - 2.závod - Pardubice (náhradní termín za 17.5.)
DESCRIPTION:
URL:https://www.speedwaya-z.cz/?tribe_events=extraliga-2-zavod-pardubice
LOCATION:Motoristů 300\, Pardubice\, 530 06
END:VEVENT
END:VCALENDAR