BEGIN:VCALENDAR
VERSION:2.0
PRODID:-//SpeedwayA-Z.cz - ECPv4.6.1//NONSGML v1.0//EN
CALSCALE:GREGORIAN
METHOD:PUBLISH
X-WR-CALNAME:SpeedwayA-Z.cz
X-ORIGINAL-URL:https://www.speedwaya-z.cz
X-WR-CALDESC:Events for SpeedwayA-Z.cz
BEGIN:VEVENT
DTSTART;TZID=Europe/Prague:20150417T180000
DTEND;TZID=Europe/Prague:20150417T180000
DTSTAMP:20260425T200505
CREATED:20150329T193139Z
LAST-MODIFIED:20150329T193541Z
UID:8829-1429293600-1429293600@www.speedwaya-z.cz
SUMMARY:extraliga - 1. závod - Pardubice
DESCRIPTION:
URL:https://www.speedwaya-z.cz/?tribe_events=extraliga-1-zavod-pardubice
END:VEVENT
END:VCALENDAR