BEGIN:VCALENDAR
VERSION:2.0
PRODID:-//SpeedwayA-Z.cz - ECPv4.6.1//NONSGML v1.0//EN
CALSCALE:GREGORIAN
METHOD:PUBLISH
X-WR-CALNAME:SpeedwayA-Z.cz
X-ORIGINAL-URL:https://www.speedwaya-z.cz
X-WR-CALDESC:Events for SpeedwayA-Z.cz
BEGIN:VEVENT
DTSTART;TZID=Europe/Prague:20170617T160000
DTEND;TZID=Europe/Prague:20170617T160000
DTSTAMP:20260423T044821
CREATED:20170316T150052Z
LAST-MODIFIED:20170316T150052Z
UID:21995-1497715200-1497715200@www.speedwaya-z.cz
SUMMARY:evropský pohár 250 ccm - semifinále 2 - Plzeň
DESCRIPTION:
URL:https://www.speedwaya-z.cz/?tribe_events=evropsky-pohar-250-ccm-semifinale-2-plzen
END:VEVENT
END:VCALENDAR