BEGIN:VCALENDAR
VERSION:2.0
PRODID:-//SpeedwayA-Z.cz - ECPv4.6.1//NONSGML v1.0//EN
CALSCALE:GREGORIAN
METHOD:PUBLISH
X-WR-CALNAME:SpeedwayA-Z.cz
X-ORIGINAL-URL:https://www.speedwaya-z.cz
X-WR-CALDESC:Events for SpeedwayA-Z.cz
BEGIN:VEVENT
DTSTART;TZID=Europe/Prague:20170617T110000
DTEND;TZID=Europe/Prague:20170617T110000
DTSTAMP:20260423T051940
CREATED:20161124T092035Z
LAST-MODIFIED:20170316T150014Z
UID:20265-1497697200-1497697200@www.speedwaya-z.cz
SUMMARY:evropský pohár 250 ccm - semifinále 1 - Plzeň
DESCRIPTION:
URL:https://www.speedwaya-z.cz/?tribe_events=evropsky-pohar-250-ccm-plzen
LOCATION:Univerzitní ulice č. 15\, Plzeň\, 30101
ORGANIZER;CN="PK%20Plze%C5%88%20v%20A%C4%8CR":MAILTO:k.o(at)centrum.cz
END:VEVENT
END:VCALENDAR