BEGIN:VCALENDAR
VERSION:2.0
PRODID:-//SpeedwayA-Z.cz - ECPv4.6.1//NONSGML v1.0//EN
CALSCALE:GREGORIAN
METHOD:PUBLISH
X-WR-CALNAME:SpeedwayA-Z.cz
X-ORIGINAL-URL:https://www.speedwaya-z.cz
X-WR-CALDESC:Events for SpeedwayA-Z.cz
BEGIN:VEVENT
DTSTART;TZID=Europe/Prague:20170414T130000
DTEND;TZID=Europe/Prague:20170414T130000
DTSTAMP:20260423T063307
CREATED:20170317T105120Z
LAST-MODIFIED:20170413T064539Z
UID:22004-1492174800-1492174800@www.speedwaya-z.cz
SUMMARY:evropská dlouhodrážní série veteránů ELVS - Pardubice !!!ODVOLÁNO!!!
DESCRIPTION:
URL:https://www.speedwaya-z.cz/?tribe_events=evropska-dlouhodrazni-serie-veteranl-elvs-pardubice
LOCATION:Motoristů 300\, Pardubice\, 530 06
END:VEVENT
END:VCALENDAR