BEGIN:VCALENDAR
VERSION:2.0
PRODID:-//SpeedwayA-Z.cz - ECPv4.6.1//NONSGML v1.0//EN
CALSCALE:GREGORIAN
METHOD:PUBLISH
X-WR-CALNAME:SpeedwayA-Z.cz
X-ORIGINAL-URL:https://www.speedwaya-z.cz
X-WR-CALDESC:Events for SpeedwayA-Z.cz
BEGIN:VEVENT
DTSTART;TZID=Europe/Prague:20170625T000000
DTEND;TZID=Europe/Prague:20170625T000000
DTSTAMP:20260423T071146
CREATED:20170317T105037Z
LAST-MODIFIED:20170602T025807Z
UID:22003-1498348800-1498348800@www.speedwaya-z.cz
SUMMARY:evropská dlouhodrážní série veteránů ELVS - Mariánské Lázně (!!!NEJEDE SE!!!)
DESCRIPTION:
URL:https://www.speedwaya-z.cz/?tribe_events=evropska-dlouhodrazni-serie-veteranl-elvs-marianske-lazne
LOCATION:Na Průhonu 214/12\, Mariánské Lázně\, 353 01
ORGANIZER;CN="AMK%20%20Mari%C3%A1nsk%C3%A9%20L%C3%A1zn%C4%9B%20v%20A%C4%8CR":MAILTO:amk.ml(at)seznam.cz
END:VEVENT
END:VCALENDAR