BEGIN:VCALENDAR
VERSION:2.0
PRODID:-//SpeedwayA-Z.cz - ECPv4.6.1//NONSGML v1.0//EN
CALSCALE:GREGORIAN
METHOD:PUBLISH
X-WR-CALNAME:SpeedwayA-Z.cz
X-ORIGINAL-URL:https://www.speedwaya-z.cz
X-WR-CALDESC:Events for SpeedwayA-Z.cz
BEGIN:VEVENT
DTSTART;TZID=Europe/Prague:20190622T150000
DTEND;TZID=Europe/Prague:20190622T150000
DTSTAMP:20260421T212051
CREATED:20181212T080700Z
LAST-MODIFIED:20190311T082322Z
UID:34689-1561215600-1561215600@www.speedwaya-z.cz
SUMMARY:EP do 19 let dvojic - Plzeň
DESCRIPTION:
URL:https://www.speedwaya-z.cz/?tribe_events=ep-do-19-let-dvojic-plzen
END:VEVENT
END:VCALENDAR