BEGIN:VCALENDAR
VERSION:2.0
PRODID:-//SpeedwayA-Z.cz - ECPv4.6.1//NONSGML v1.0//EN
CALSCALE:GREGORIAN
METHOD:PUBLISH
X-WR-CALNAME:SpeedwayA-Z.cz
X-ORIGINAL-URL:https://www.speedwaya-z.cz
X-WR-CALDESC:Events for SpeedwayA-Z.cz
BEGIN:VEVENT
DTSTART;TZID=Europe/Prague:20180414T130000
DTEND;TZID=Europe/Prague:20180414T130000
DTSTAMP:20260422T092312
CREATED:20180318T213003Z
LAST-MODIFIED:20180318T214426Z
UID:29129-1523710800-1523710800@www.speedwaya-z.cz
SUMMARY:ELVS - Pardubice
DESCRIPTION:
URL:https://www.speedwaya-z.cz/?tribe_events=elvs-pardubice-2
LOCATION:Motoristů 300\, Pardubice\, 530 06
ORGANIZER;CN="AMK%20ZP%20Pardubice%20v%20A%C4%8CR":MAILTO:amk.zp(at)wo.cz
END:VEVENT
END:VCALENDAR