BEGIN:VCALENDAR
VERSION:2.0
PRODID:-//SpeedwayA-Z.cz - ECPv4.6.1//NONSGML v1.0//EN
CALSCALE:GREGORIAN
METHOD:PUBLISH
X-WR-CALNAME:SpeedwayA-Z.cz
X-ORIGINAL-URL:https://www.speedwaya-z.cz
X-WR-CALDESC:Events for SpeedwayA-Z.cz
BEGIN:VEVENT
DTSTART;TZID=Europe/Prague:20160611T130000
DTEND;TZID=Europe/Prague:20160611T130000
DTSTAMP:20260423T201821
CREATED:20160113T234531Z
LAST-MODIFIED:20160324T103736Z
UID:14245-1465650000-1465650000@www.speedwaya-z.cz
SUMMARY:ELVS - Pardubice
DESCRIPTION:
URL:https://www.speedwaya-z.cz/?tribe_events=elvs-pardubice
LOCATION:Motoristů 300\, Pardubice\, 530 06
END:VEVENT
END:VCALENDAR