BEGIN:VCALENDAR
VERSION:2.0
PRODID:-//SpeedwayA-Z.cz - ECPv4.6.1//NONSGML v1.0//EN
CALSCALE:GREGORIAN
METHOD:PUBLISH
X-WR-CALNAME:SpeedwayA-Z.cz
X-ORIGINAL-URL:https://www.speedwaya-z.cz
X-WR-CALDESC:Events for SpeedwayA-Z.cz
BEGIN:VEVENT
DTSTART;TZID=Europe/Prague:20171001T120000
DTEND;TZID=Europe/Prague:20171001T120000
DTSTAMP:20260423T014828
CREATED:20161124T084543Z
LAST-MODIFIED:20170317T110131Z
UID:20259-1506859200-1506859200@www.speedwaya-z.cz
SUMMARY:69. Zlatá přilba města Pardubice
DESCRIPTION:
URL:https://www.speedwaya-z.cz/?tribe_events=69-zlata-prilba-mesta-pardubice
LOCATION:Motoristů 300\, Pardubice\, 530 06
END:VEVENT
END:VCALENDAR