BEGIN:VCALENDAR
VERSION:2.0
PRODID:-//SpeedwayA-Z.cz - ECPv4.6.1//NONSGML v1.0//EN
CALSCALE:GREGORIAN
METHOD:PUBLISH
X-WR-CALNAME:SpeedwayA-Z.cz
X-ORIGINAL-URL:https://www.speedwaya-z.cz
X-WR-CALDESC:Events for SpeedwayA-Z.cz
BEGIN:VEVENT
DTSTART;TZID=Europe/Prague:20180929T140000
DTEND;TZID=Europe/Prague:20180929T140000
DTSTAMP:20260422T075207
CREATED:20180319T170004Z
LAST-MODIFIED:20180319T170004Z
UID:29158-1538229600-1538229600@www.speedwaya-z.cz
SUMMARY:44. Zlatá stuha + 5. Jawa Cup 250 ccm - Pardubice
DESCRIPTION:
URL:https://www.speedwaya-z.cz/?tribe_events=44-zlata-stuha-5-jawa-cup-250-ccm-pardubice
LOCATION:Motoristů 300\, Pardubice\, 530 06
END:VEVENT
END:VCALENDAR