BEGIN:VCALENDAR
VERSION:2.0
PRODID:-//SpeedwayA-Z.cz - ECPv4.6.1//NONSGML v1.0//EN
CALSCALE:GREGORIAN
METHOD:PUBLISH
X-WR-CALNAME:SpeedwayA-Z.cz
X-ORIGINAL-URL:https://www.speedwaya-z.cz
X-WR-CALDESC:Events for SpeedwayA-Z.cz
BEGIN:VEVENT
DTSTART;TZID=Europe/Prague:20150822T143000
DTEND;TZID=Europe/Prague:20150822T143000
DTSTAMP:20260425T211637
CREATED:20150608T204100Z
LAST-MODIFIED:20150608T204205Z
UID:10596-1440253800-1440253800@www.speedwaya-z.cz
SUMMARY:4. Veterán kemp - Svitavy
DESCRIPTION:
URL:https://www.speedwaya-z.cz/?tribe_events=4-veteran-kemp-svitavy
END:VEVENT
END:VCALENDAR