BEGIN:VCALENDAR
VERSION:2.0
PRODID:-//SpeedwayA-Z.cz - ECPv4.6.1//NONSGML v1.0//EN
CALSCALE:GREGORIAN
METHOD:PUBLISH
X-WR-CALNAME:SpeedwayA-Z.cz
X-ORIGINAL-URL:https://www.speedwaya-z.cz
X-WR-CALDESC:Events for SpeedwayA-Z.cz
BEGIN:VEVENT
DTSTART;TZID=Europe/Prague:20170819T100000
DTEND;TZID=Europe/Prague:20170819T100000
DTSTAMP:20260423T063635
CREATED:20170319T073418Z
LAST-MODIFIED:20170730T220426Z
UID:22036-1503136800-1503136800@www.speedwaya-z.cz
SUMMARY:3. Srandamač - Kostěnice
DESCRIPTION:
URL:https://www.speedwaya-z.cz/?tribe_events=3-srandamac-kostenice-2
END:VEVENT
END:VCALENDAR