BEGIN:VCALENDAR
VERSION:2.0
PRODID:-//SpeedwayA-Z.cz - ECPv4.6.1//NONSGML v1.0//EN
CALSCALE:GREGORIAN
METHOD:PUBLISH
X-WR-CALNAME:SpeedwayA-Z.cz
X-ORIGINAL-URL:https://www.speedwaya-z.cz
X-WR-CALDESC:Events for SpeedwayA-Z.cz
BEGIN:VEVENT
DTSTART;TZID=Europe/Prague:20150906T140000
DTEND;TZID=Europe/Prague:20150906T140000
DTSTAMP:20260426T001430
CREATED:20150329T193728Z
LAST-MODIFIED:20150814T073024Z
UID:8848-1441548000-1441548000@www.speedwaya-z.cz
SUMMARY:1. liga - 9. závod - Mšeno
DESCRIPTION:původní termín 23.8. \n
URL:https://www.speedwaya-z.cz/?tribe_events=1-liga-9-zavod-mseno
END:VEVENT
END:VCALENDAR