BEGIN:VCALENDAR
VERSION:2.0
PRODID:-//SpeedwayA-Z.cz - ECPv4.6.1//NONSGML v1.0//EN
CALSCALE:GREGORIAN
METHOD:PUBLISH
X-WR-CALNAME:SpeedwayA-Z.cz
X-ORIGINAL-URL:https://www.speedwaya-z.cz
X-WR-CALDESC:Events for SpeedwayA-Z.cz
BEGIN:VEVENT
DTSTART;TZID=Europe/Prague:20150816T140000
DTEND;TZID=Europe/Prague:20150816T140000
DTSTAMP:20260426T001440
CREATED:20150329T193751Z
LAST-MODIFIED:20150628T184031Z
UID:8846-1439733600-1439733600@www.speedwaya-z.cz
SUMMARY:1. liga - 7. závod - Míšeň (D)
DESCRIPTION:původní termín 4.7. \n
URL:https://www.speedwaya-z.cz/?tribe_events=1-liga-7-zavod-misen-d
ATTACH;FMTTYPE=image/jpeg:https://www.speedwaya-z.cz/wp-content/uploads/2015/03/misen.jpg
END:VEVENT
END:VCALENDAR