BEGIN:VCALENDAR
VERSION:2.0
PRODID:-//SpeedwayA-Z.cz - ECPv4.6.1//NONSGML v1.0//EN
CALSCALE:GREGORIAN
METHOD:PUBLISH
X-WR-CALNAME:SpeedwayA-Z.cz
X-ORIGINAL-URL:https://www.speedwaya-z.cz
X-WR-CALDESC:Events for SpeedwayA-Z.cz
BEGIN:VEVENT
DTSTART;TZID=Europe/Prague:20180812T150000
DTEND;TZID=Europe/Prague:20180812T150000
DTSTAMP:20260422T105810
CREATED:20180317T210726Z
LAST-MODIFIED:20180318T212846Z
UID:29081-1534086000-1534086000@www.speedwaya-z.cz
SUMMARY:1.liga - 3.závod - Plzeň
DESCRIPTION:
URL:https://www.speedwaya-z.cz/?tribe_events=1-liga-3-zavod-plzen
LOCATION:Univerzitní ulice č. 15\, Plzeň\, 30101
ORGANIZER;CN="PK%20Plze%C5%88%20v%20A%C4%8CR":MAILTO:k.o(at)centrum.cz
END:VEVENT
END:VCALENDAR