BEGIN:VCALENDAR
VERSION:2.0
PRODID:-//SpeedwayA-Z.cz - ECPv4.6.1//NONSGML v1.0//EN
CALSCALE:GREGORIAN
METHOD:PUBLISH
X-WR-CALNAME:SpeedwayA-Z.cz
X-ORIGINAL-URL:https://www.speedwaya-z.cz
X-WR-CALDESC:Events for SpeedwayA-Z.cz
BEGIN:VEVENT
DTSTART;TZID=Europe/Prague:20180706T140000
DTEND;TZID=Europe/Prague:20180706T140000
DTSTAMP:20260422T075838
CREATED:20180317T210630Z
LAST-MODIFIED:20180328T161652Z
UID:29079-1530885600-1530885600@www.speedwaya-z.cz
SUMMARY:1.liga - 2.závod - Svitavy
DESCRIPTION:
URL:https://www.speedwaya-z.cz/?tribe_events=1-liga-2-zavod-svitavy
LOCATION:Hálkova 7\, Svitavy\, 568 02
ORGANIZER;CN="AMK%20Svitavy%20v%20A%C4%8CR":MAILTO:richardberger(at)seznam.cz
END:VEVENT
END:VCALENDAR