BEGIN:VCALENDAR
VERSION:2.0
PRODID:-//SpeedwayA-Z.cz - ECPv4.6.1//NONSGML v1.0//EN
CALSCALE:GREGORIAN
METHOD:PUBLISH
X-WR-CALNAME:SpeedwayA-Z.cz
X-ORIGINAL-URL:https://www.speedwaya-z.cz
X-WR-CALDESC:Events for SpeedwayA-Z.cz
BEGIN:VEVENT
DTSTART;TZID=Europe/Prague:20170628T180000
DTEND;TZID=Europe/Prague:20170628T180000
DTSTAMP:20260423T052009
CREATED:20170319T172232Z
LAST-MODIFIED:20170613T083100Z
UID:22048-1498672800-1498672800@www.speedwaya-z.cz
SUMMARY:1.liga - 1. závod - Pardubice (místo Svitav)
DESCRIPTION:
URL:https://www.speedwaya-z.cz/?tribe_events=1-liga-1-zavod-svitavy
LOCATION:Hálkova 7\, Svitavy\, 568 02
ORGANIZER;CN="AMK%20Svitavy%20v%20A%C4%8CR":MAILTO:richardberger(at)seznam.cz
END:VEVENT
END:VCALENDAR